BEGIN:VCALENDAR
VERSION:2.0
PRODID:-//stcatherinepr.com//eCatholic//EN
X-WR-TIMEZONE:LocalTZ
BEGIN:VTIMEZONE
TZID:LocalTZ
X-LIC-LOCATION:LocalTZ
BEGIN:DAYLIGHT
TZOFFSETFROM:-0800
TZOFFSETTO:-0700
TZNAME:LocalTZ
DTSTART:19700308T020000
RRULE:FREQ=YEARLY;BYMONTH=3;BYDAY=2SU
END:DAYLIGHT
BEGIN:STANDARD
TZOFFSETFROM:-0700
TZOFFSETTO:-0800
TZNAME:LocalTZ
DTSTART:19701101T020000
RRULE:FREQ=YEARLY;BYMONTH=11;BYDAY=1SU
END:STANDARD
END:VTIMEZONE
BEGIN:VEVENT
UID:1560342@stcatherinepr.com
DTSTAMP:20260422T090429Z
DTSTART;VALUE=DATE:20260426
DTEND;VALUE=DATE:20260427
RRULE:FREQ=WEEKLY;BYDAY=SU
EXDATE:20250202T000000,20260405T000000
SUMMARY:Coffee Hour After Mass
END:VEVENT
BEGIN:VEVENT
UID:1560341@stcatherinepr.com
DTSTAMP:20260422T090429Z
DTSTART:20260426T083000
DTEND:20260426T093000
RRULE:FREQ=WEEKLY;BYDAY=SU
EXDATE:20220417T083000,20240331T083000,20250420T083000,20250713T083000,202
 60405T083000,20260405T083000
SUMMARY:Mass
END:VEVENT
BEGIN:VEVENT
UID:1798677@stcatherinepr.com
DTSTAMP:20260422T090429Z
DTSTART:20260422T090000
DTEND:20260422T143000
RRULE:FREQ=WEEKLY;BYDAY=WE
EXDATE:20251224T090000
SUMMARY:Rectory Open
END:VEVENT
BEGIN:VEVENT
UID:1794493@stcatherinepr.com
DTSTAMP:20260422T090429Z
DTSTART;VALUE=DATE:20260426
DTEND;VALUE=DATE:20260427
RRULE:FREQ=MONTHLY;BYDAY=SU;BYSETPOS=-1
EXDATE:20240331T000000,20240331T000000,20240331T000000
SUMMARY:FOOD BANK SUNDAY
END:VEVENT
BEGIN:VEVENT
UID:1794494@stcatherinepr.com
DTSTAMP:20260422T090429Z
DTSTART;VALUE=DATE:20260503
DTEND;VALUE=DATE:20260504
RRULE:FREQ=MONTHLY;BYDAY=SU;BYSETPOS=1
SUMMARY:FOOD BANK SUNDAY
END:VEVENT
BEGIN:VEVENT
UID:2373275@stcatherinepr.com
DTSTAMP:20260422T090429Z
DTSTART:20260426T113000
DTEND:20260426T123000
RRULE:FREQ=WEEKLY;BYDAY=SU
EXDATE:20250420T113000,20260405T113000
SUMMARY:Mass at St. Blanche Station
DESCRIPTION:All are welcome to our parish at the Lake.
END:VEVENT
BEGIN:VEVENT
UID:2612252@stcatherinepr.com
DTSTAMP:20260422T090429Z
DTSTART;VALUE=DATE:20260510
DTEND;VALUE=DATE:20260511
RRULE:FREQ=MONTHLY;BYDAY=SU;BYSETPOS=2
EXDATE:20250209T000000,20251012T000000
SUMMARY:Knights of Columbus Meeting
END:VEVENT
BEGIN:VEVENT
UID:2707806@stcatherinepr.com
DTSTAMP:20260422T090429Z
DTSTART:20260513T133000
DTEND:20260513T143000
RRULE:FREQ=MONTHLY;BYDAY=WE;BYSETPOS=2
EXDATE:20250409T133000,20250514T133000,20260311T133000
SUMMARY:St. Blanche Parish Council meeting
END:VEVENT
BEGIN:VEVENT
UID:2765396@stcatherinepr.com
DTSTAMP:20260422T090429Z
DTSTART:20260422T110000
DTEND:20260422T120000
RRULE:FREQ=WEEKLY;BYDAY=WE
EXDATE:20251029T110000,20251105T110000,20251203T110000,20251224T110000,202
 60311T110000
SUMMARY:Adoration and Benediction followed by Mass
DESCRIPTION: Wednesday Mass 12:00 noon\, preceded by Adoration at 11:00 am
 .
END:VEVENT
BEGIN:VEVENT
UID:2774019@stcatherinepr.com
DTSTAMP:20260422T090429Z
DTSTART:20260424T080000
DTEND:20260424T090000
RRULE:FREQ=WEEKLY;BYDAY=FR
EXDATE:20260313T080000,20260403T080000,20260403T080000
SUMMARY:Daily Mass
END:VEVENT
BEGIN:VEVENT
UID:2774016@stcatherinepr.com
DTSTAMP:20260422T090429Z
DTSTART:20260501T110000
DTEND:20260501T120000
RRULE:FREQ=MONTHLY;BYDAY=FR;BYSETPOS=1
EXDATE:20250905T110000,20260403T110000,20260403T110000
SUMMARY:First Friday Adoration
DESCRIPTION:First Friday Adoration begins at 11:00 a.m. followed by Mass a
 t 12:00 noon
END:VEVENT
BEGIN:VEVENT
UID:2774022@stcatherinepr.com
DTSTAMP:20260422T090429Z
DTSTART:20260425T080000
DTEND:20260425T090000
RRULE:FREQ=WEEKLY;BYDAY=SA
EXDATE:20260404T080000,20260404T080000
SUMMARY:Daily Mass
END:VEVENT
BEGIN:VEVENT
UID:2774018@stcatherinepr.com
DTSTAMP:20260422T090429Z
DTSTART:20260428T080000
DTEND:20260428T090000
RRULE:FREQ=WEEKLY;BYDAY=TU
EXDATE:20260310T080000
SUMMARY:Daily Mass
END:VEVENT
BEGIN:VEVENT
UID:2774012@stcatherinepr.com
DTSTAMP:20260422T090429Z
DTSTART:20260428T100000
DTEND:20260428T110000
RRULE:FREQ=WEEKLY;BYDAY=TU
EXDATE:20250715T100000,20250722T100000,20250729T100000,20250805T100000,202
 50812T100000,20250819T100000,20250826T100000,20260310T100000
SUMMARY:Adoration
END:VEVENT
BEGIN:VEVENT
UID:2774011@stcatherinepr.com
DTSTAMP:20260422T090429Z
DTSTART:20260422T080000
DTEND:20260422T090000
RRULE:FREQ=WEEKLY;BYDAY=WE
EXDATE:20251224T080000,20260311T080000
SUMMARY:Daily Mass
END:VEVENT
BEGIN:VEVENT
UID:2774021@stcatherinepr.com
DTSTAMP:20260422T090429Z
DTSTART:20260423T080000
DTEND:20260423T090000
RRULE:FREQ=WEEKLY;BYDAY=TH
EXDATE:20251225T080000,20260312T080000
SUMMARY:Daily Mass
END:VEVENT
BEGIN:VEVENT
UID:2920070@stcatherinepr.com
DTSTAMP:20260422T090429Z
DTSTART:20260503T093000
DTEND:20260503T103000
RRULE:FREQ=MONTHLY;BYDAY=SU;BYSETPOS=1
EXDATE:20260405T093000
SUMMARY:OCIA
END:VEVENT
BEGIN:VEVENT
UID:2920068@stcatherinepr.com
DTSTAMP:20260422T090429Z
DTSTART:20260510T093000
DTEND:20260510T103000
RRULE:FREQ=MONTHLY;BYDAY=SU;BYSETPOS=2
EXDATE:20251214T093000
SUMMARY:Knights of Columbus
END:VEVENT
BEGIN:VEVENT
UID:2920069@stcatherinepr.com
DTSTAMP:20260422T090429Z
DTSTART:20260510T093000
DTEND:20260510T103000
RRULE:FREQ=MONTHLY;BYDAY=SU;BYSETPOS=2
SUMMARY:Women's Guild
END:VEVENT
BEGIN:VEVENT
UID:2920071@stcatherinepr.com
DTSTAMP:20260422T090429Z
DTSTART;VALUE=DATE:20260517
DTEND;VALUE=DATE:20260518
RRULE:FREQ=MONTHLY;BYDAY=SU;BYSETPOS=3
SUMMARY:OCIA & Faith Formation
END:VEVENT
BEGIN:VEVENT
UID:2986942@stcatherinepr.com
DTSTAMP:20260422T090429Z
DTSTART:20260426T110000
DTEND:20260426T120000
RRULE:FREQ=WEEKLY;BYDAY=SU
SUMMARY:Rosary is Prayed
DESCRIPTION:The Rosary is prayed each Sunday\, beginning at 11:00am. If yo
 u are here early for mass\, please join in.
END:VEVENT
BEGIN:VEVENT
UID:2986943@stcatherinepr.com
DTSTAMP:20260422T090429Z
DTSTART:20260428T100000
DTEND:20260428T110000
RRULE:FREQ=WEEKLY;BYDAY=TU
EXDATE:20260310T100000
SUMMARY:Mass
DESCRIPTION:Please join us every Tuesday at 10:00 a.m. for Eucharistic Ado
 ration\, followed by Mass at 11:00 a.m. Father Reggie will  also be happy 
 to hear Confessions during Adoration.  This is a beautiful opportunity to 
 slow down\, give thanks to the Lord for the many blessings in our lives\, 
 and simply spend time\nin His presence. Try it—you’ll be glad you did! Spe
 nd an hour with the Lord and discover the grace\, peace\, and renewal that
  flow from this quiet time with Him.
END:VEVENT
BEGIN:VEVENT
UID:3042125@stcatherinepr.com
DTSTAMP:20260422T090429Z
DTSTART;VALUE=DATE:20260426
DTEND;VALUE=DATE:20260427
RRULE:FREQ=WEEKLY;BYDAY=SU
EXDATE:20260301T000000,20260405T000000,20260405T000000
SUMMARY:Annual Catholic Appeal
DESCRIPTION:Just as the moon has no light of its own but reflects the bril
 liance of the sun\, so we\, as disciples of Jesus Christ\, are called to r
 eflect His Light to the world. This Light shines most brightly when we sha
 re what we have received and allow others to see Christ alive in us.\n\nI 
 think back to a winter during my first year of graduate studies while in t
 he seminary in Minnesota – where it is usually known as a gray and bitterl
 y cold season. During that January day\, feeling overwhelmed and all alone
 \, I noticed an unattended planter in my dorm hallway. To my surprise\, a 
 few white geranium petals streaked with red were blooming at this very une
 xpected time of the year. I walked to a nearby chapel and kneeling in pray
 er\, sensed the Lord whisper: “Can you hand over to Me all that troubles y
 ou?” I laid down my concerns and\, one by one\, He took them\, and one by 
 one\, His light broke through my darkness\, and I was set free.\n\nMoments
  later\, I went to my mailbox to find a single note card inside. On the fr
 ont of the card was a photograph of the very same flowers I had just seen 
 with the words: “Trust in God’s love for you today.” This simple message r
 eminded me then\, as it does now\, that the Gifts our Lord gives us are al
 ways meant to bring us to a greater freedom – allowing us to also share th
 is freedom\, His light with others.\n\nThe Idaho Catholic Appeal invites u
 s to come together as one family of faith—to Share His Peace and Be His Li
 ght.  Your generosity to the Appeal supports more than twenty life-giving 
 ministries across our diocese\, helping to bring Christ’s light to people 
 in every corner of Idaho. Through your gifts\, seminarians are formed for 
 the priesthood\, deacons and lay leaders are trained for ministry\, and Ca
 tholic education and campus ministries flourish. Your support sustains out
 reach to families\, youth\, and those in need—those who might otherwise li
 ve in darkness—so that all may\nexperience the warmth of God’s love.\n\nTh
 ank you for being a sustaining donor who makes a continuous monthly gift t
 o the Idaho Catholic Appeal. I encourage you to prayerfully consider how y
 ou can reflect the Light of Christ through your renewed participation and\
 , if possible\, increasing your gift to the 2026 Idaho Catholic Appeal as 
 a sustaining contributor. Every gift—large or small—is a reflection of fai
 th and a sharing of peace. When we unite our efforts\, Christ shines more 
 brilliantly across our diocese\, transforming hearts and illuminating live
 s.\n\nThank you for your faithfulness and for your willingness to share th
 e Light you have received. May God bless you with His peace and joy.\nI re
 main gratefully yours in Christ\,\n\nMost Reverend Peter F. Christensen\, 
 D.D.\nBishop of the Diocese of Boise
END:VEVENT
BEGIN:VEVENT
UID:3048261@stcatherinepr.com
DTSTAMP:20260422T090429Z
DTSTART:20260425T170000
DTEND:20260425T180000
SUMMARY:Heritage Dinner/ St. Catherine's Feast Day
DESCRIPTION:Save the Date!\nThe Women's Guild's Annual Heritage Dinner.\nA
 n Italian Feast will be provided by the Guild.  Lasagna\, Spaghetti\, Sala
 d and the works...\nThe dinner will begin at 5\;00 ALL ARE INVITED AND ENC
 OURAGED TO JOIN AN EVENING OF FELLOWSHIP AND FUN.
END:VEVENT
BEGIN:VEVENT
UID:3022782@stcatherinepr.com
DTSTAMP:20260422T090429Z
DTSTART:20260627T160000
DTEND:20260627T170000
SUMMARY:Father's Day Barbecue
DESCRIPTION:All are invited to the Father's Day Barbecue.  \nLots of fun\,
  plenty of food and fellowship.\n\nBring your favorite salad or side dish.
 ...\nHamburgers and Hot Dogs will be provided
END:VEVENT
END:VCALENDAR
